BEGIN:VCALENDAR
VERSION:2.0
PRODID:-//Plone.org//NONSGML plone.app.event//EN
X-WR-TIMEZONE:Brazil/East
BEGIN:VEVENT
SUMMARY:MOÇÃO DE APLAUSOS PARA O SENHOR DAVI ALMEIDA TOLETINO BARBOSA SE
 RQUEIRA.
DTSTART;TZID=Brazil/East;VALUE=DATE-TIME:20241017T100000
DTEND;TZID=Brazil/East;VALUE=DATE-TIME:20241017T120000
DTSTAMP;VALUE=DATE-TIME:20260421T085015Z
UID:6990d863fa5b453fbf88b5ec247c008e@www.goiania.go.leg.br
CONTACT:VEREADOR RODOLFO SOUZA
CREATED;VALUE=DATE-TIME:20241001T113251Z
LAST-MODIFIED;VALUE=DATE-TIME:20241001T113427Z
LOCATION:PLENÁRIO TRAJANO GUIMARÃES
URL:https://www.goiania.go.leg.br/sala-de-imprensa/eventos/mocao-de-aplaus
 os-para-o-senhor-davi-almeida-toletino-barbosa-serqueira
END:VEVENT
BEGIN:VTIMEZONE
TZID:Brazil/East
X-LIC-LOCATION:Brazil/East
BEGIN:STANDARD
DTSTART;VALUE=DATE-TIME:20240217T230000
TZNAME:BRT
TZOFFSETFROM:-0200
TZOFFSETTO:-0300
END:STANDARD
END:VTIMEZONE
END:VCALENDAR
