BEGIN:VCALENDAR
VERSION:2.0
PRODID:-//Plone.org//NONSGML plone.app.event//EN
X-WR-TIMEZONE:Brazil/East
BEGIN:VEVENT
SUMMARY:MOÇÃO DE APLAUSOS PARA COMEMORAR OS 25 ANOS DO PONTO 18 BAR.
DTSTART;TZID=Brazil/East;VALUE=DATE-TIME:20250509T100000
DTEND;TZID=Brazil/East;VALUE=DATE-TIME:20250509T120000
DTSTAMP;VALUE=DATE-TIME:20260420T172643Z
UID:9cda6835f7de4390a75572273d1d426a@www.goiania.go.leg.br
CONTACT:VEREADORA KATIA
CREATED;VALUE=DATE-TIME:20250507T115637Z
LAST-MODIFIED;VALUE=DATE-TIME:20250507T115709Z
LOCATION:PLENÁRIO TRAJANO GUIMARÃES
URL:https://www.goiania.go.leg.br/sala-de-imprensa/eventos/mocao-de-aplaus
 os-para-comemorar-os-25-anos-do-ponto-18-bar
END:VEVENT
BEGIN:VTIMEZONE
TZID:Brazil/East
X-LIC-LOCATION:Brazil/East
BEGIN:STANDARD
DTSTART;VALUE=DATE-TIME:20250215T230000
TZNAME:BRT
TZOFFSETFROM:-0200
TZOFFSETTO:-0300
END:STANDARD
END:VTIMEZONE
END:VCALENDAR
