BEGIN:VCALENDAR
VERSION:2.0
PRODID:-//Plone.org//NONSGML plone.app.event//EN
X-WR-TIMEZONE:Brazil/East
BEGIN:VEVENT
SUMMARY:MOÇÃO DE APLAUSOS AOS SENHORES WANDERSON PEREIRA CORTEZ E GABRIE
 L BEZERRA SILVA.
DTSTART;TZID=Brazil/East;VALUE=DATE-TIME:20240801T100000
DTEND;TZID=Brazil/East;VALUE=DATE-TIME:20240801T120000
DTSTAMP;VALUE=DATE-TIME:20260422T195958Z
UID:4ff786f73b5c4c54a58bdd9d8f260ced@www.goiania.go.leg.br
CONTACT:VEREADOR ANDERSON SALES
CREATED;VALUE=DATE-TIME:20240709T115247Z
LAST-MODIFIED;VALUE=DATE-TIME:20240709T115358Z
LOCATION:PLENÁRIO TRAJANO GUIMARÃES
URL:https://www.goiania.go.leg.br/sala-de-imprensa/eventos/mocao-de-aplaus
 os-aos-senhores-wanderson-pereira-cortez-e-gabriel-bezerra-silva
END:VEVENT
BEGIN:VTIMEZONE
TZID:Brazil/East
X-LIC-LOCATION:Brazil/East
BEGIN:STANDARD
DTSTART;VALUE=DATE-TIME:20240217T230000
TZNAME:BRT
TZOFFSETFROM:-0200
TZOFFSETTO:-0300
END:STANDARD
END:VTIMEZONE
END:VCALENDAR
