BEGIN:VCALENDAR
VERSION:2.0
PRODID:-//Plone.org//NONSGML plone.app.event//EN
X-WR-TIMEZONE:Brazil/East
BEGIN:VEVENT
SUMMARY:MOÇÃO DE APLAUSOS AOS POLICIAIS MILITARES DO 9º BMP - CPC.
DTSTART;TZID=Brazil/East;VALUE=DATE-TIME:20230420T100000
DTEND;TZID=Brazil/East;VALUE=DATE-TIME:20230420T120000
DTSTAMP;VALUE=DATE-TIME:20260419T190623Z
UID:7a895941c19042b29c07d0e85308a3c2@www.goiania.go.leg.br
CONTACT:VEREADOR GEVERSON ABEL
CREATED;VALUE=DATE-TIME:20230322T203106Z
LAST-MODIFIED;VALUE=DATE-TIME:20230322T203128Z
LOCATION:PLENÁRIO TRAJANO GUIMARÃES
URL:https://www.goiania.go.leg.br/sala-de-imprensa/eventos/mocao-de-aplaus
 os-aos-policiais-militares-do-9o-bmp-cpc
END:VEVENT
BEGIN:VTIMEZONE
TZID:Brazil/East
X-LIC-LOCATION:Brazil/East
BEGIN:STANDARD
DTSTART;VALUE=DATE-TIME:20230225T230000
TZNAME:BRT
TZOFFSETFROM:-0200
TZOFFSETTO:-0300
END:STANDARD
END:VTIMEZONE
END:VCALENDAR
