BEGIN:VCALENDAR
VERSION:2.0
PRODID:-//Plone.org//NONSGML plone.app.event//EN
X-WR-TIMEZONE:Brazil/East
BEGIN:VEVENT
SUMMARY:MOÇÃO DE APLAUSOS AO SENHOR RICARDO CABELLO.
DTSTART;TZID=Brazil/East;VALUE=DATE-TIME:20231207T100000
DTEND;TZID=Brazil/East;VALUE=DATE-TIME:20231207T120000
DTSTAMP;VALUE=DATE-TIME:20260422T195059Z
UID:dd172ea661d74dc9b3792ad9408e4dbe@www.goiania.go.leg.br
CONTACT:VEREADOR PAULO MAGALHÃES
CREATED;VALUE=DATE-TIME:20231114T123806Z
LAST-MODIFIED;VALUE=DATE-TIME:20231114T123818Z
LOCATION:PLENÁRIO TRAJANO GUIMARÃES
URL:https://www.goiania.go.leg.br/sala-de-imprensa/eventos/mocao-de-aplaus
 os-ao-senhor-ricardo-cabello
END:VEVENT
BEGIN:VTIMEZONE
TZID:Brazil/East
X-LIC-LOCATION:Brazil/East
BEGIN:DAYLIGHT
DTSTART;VALUE=DATE-TIME:20231015T010000
TZNAME:BRST
TZOFFSETFROM:-0300
TZOFFSETTO:-0200
END:DAYLIGHT
END:VTIMEZONE
END:VCALENDAR
