BEGIN:VCALENDAR
VERSION:2.0
PRODID:-//Plone.org//NONSGML plone.app.event//EN
X-WR-TIMEZONE:Brazil/East
BEGIN:VEVENT
SUMMARY:MOÇÃO DE APLAUSOS AO SENHOR JOÃO VITOR PAIVA.
DTSTART;TZID=Brazil/East;VALUE=DATE-TIME:20250327T190000
DTEND;TZID=Brazil/East;VALUE=DATE-TIME:20250327T220000
DTSTAMP;VALUE=DATE-TIME:20260422T195844Z
UID:4a3b7130a69d4cf2b7a4043dd1e1df5c@www.goiania.go.leg.br
CONTACT:VEREADOR DR. GUSTAVO GOMIDES
CREATED;VALUE=DATE-TIME:20250310T132822Z
LAST-MODIFIED;VALUE=DATE-TIME:20250310T132923Z
LOCATION:SALA DE REUNIÃO DA PRESIDÊNCIA
URL:https://www.goiania.go.leg.br/sala-de-imprensa/eventos/mocao-de-aplaus
 os-ao-senhor-joao-vitor-paiva
END:VEVENT
BEGIN:VTIMEZONE
TZID:Brazil/East
X-LIC-LOCATION:Brazil/East
BEGIN:STANDARD
DTSTART;VALUE=DATE-TIME:20250215T230000
TZNAME:BRT
TZOFFSETFROM:-0200
TZOFFSETTO:-0300
END:STANDARD
END:VTIMEZONE
END:VCALENDAR
