BEGIN:VCALENDAR
VERSION:2.0
PRODID:-//Plone.org//NONSGML plone.app.event//EN
X-WR-TIMEZONE:Brazil/East
BEGIN:VEVENT
SUMMARY:MOÇÃO DE APLAUSOS AO SENHOR BRÁULIO FERRO DE PAULA.
DTSTART;TZID=Brazil/East;VALUE=DATE-TIME:20240314T100000
DTEND;TZID=Brazil/East;VALUE=DATE-TIME:20240314T120000
DTSTAMP;VALUE=DATE-TIME:20260422T052745Z
UID:0252a37a12f34206a7933c45829c0bad@www.goiania.go.leg.br
CONTACT:VEREADOR SANDES JÚNIOR
CREATED;VALUE=DATE-TIME:20240229T121739Z
LAST-MODIFIED;VALUE=DATE-TIME:20240229T121832Z
LOCATION:PLENÁRIO TRAJANO GUIMARÃES
URL:https://www.goiania.go.leg.br/sala-de-imprensa/eventos/mocao-de-aplaus
 os-ao-senhor-braulio-ferro-de-paula
END:VEVENT
BEGIN:VTIMEZONE
TZID:Brazil/East
X-LIC-LOCATION:Brazil/East
BEGIN:STANDARD
DTSTART;VALUE=DATE-TIME:20240217T230000
TZNAME:BRT
TZOFFSETFROM:-0200
TZOFFSETTO:-0300
END:STANDARD
END:VTIMEZONE
END:VCALENDAR
