BEGIN:VCALENDAR
VERSION:2.0
PRODID:-//Plone.org//NONSGML plone.app.event//EN
X-WR-TIMEZONE:Brazil/East
BEGIN:VEVENT
SUMMARY:MOÇÃO DE APLAUSOS AO ANIVERSÁRIO DA EMPRESA MÚLTIPLA - ASSOCIA
 ÇÃO MÚLTIPLA DE PROTEÇÃO E ASSISTÊNCIA AUTOMOTIVA.
DTSTART;TZID=Brazil/East;VALUE=DATE-TIME:20230601T090000
DTEND;TZID=Brazil/East;VALUE=DATE-TIME:20230601T120000
DTSTAMP;VALUE=DATE-TIME:20260420T144558Z
UID:499abc4cd9e243f1aeb9055132b4ecd2@www.goiania.go.leg.br
CONTACT:VEREADOR IGOR FRANCO
CREATED;VALUE=DATE-TIME:20230411T123650Z
LAST-MODIFIED;VALUE=DATE-TIME:20230411T123700Z
LOCATION:PLENÁRIO TRAJANO GUIMARÃES
URL:https://www.goiania.go.leg.br/sala-de-imprensa/eventos/mocao-de-aplaus
 os-ao-aniversario-da-empresa-multipla-associacao-multipla-de-protecao-e-as
 sistencia-automotiva
END:VEVENT
BEGIN:VTIMEZONE
TZID:Brazil/East
X-LIC-LOCATION:Brazil/East
BEGIN:STANDARD
DTSTART;VALUE=DATE-TIME:20230225T230000
TZNAME:BRT
TZOFFSETFROM:-0200
TZOFFSETTO:-0300
END:STANDARD
END:VTIMEZONE
END:VCALENDAR
