BEGIN:VCALENDAR
VERSION:2.0
PRODID:-//Plone.org//NONSGML plone.app.event//EN
X-WR-TIMEZONE:Brazil/East
BEGIN:VEVENT
SUMMARY:MOÇÃO DE APLAUSOS A EMPRESA GRANJA LOYOLA\, FUNDADOR E SÓCIO-AD
 MINISTRADOR SENHOR ALTINO LOYOLA.
DTSTART;TZID=Brazil/East;VALUE=DATE-TIME:20241121T100000
DTEND;TZID=Brazil/East;VALUE=DATE-TIME:20241121T120000
DTSTAMP;VALUE=DATE-TIME:20260421T214726Z
UID:387291f4651e4f0bad44abb11f2509ca@www.goiania.go.leg.br
CONTACT:VEREADOR PAULO MAGALHÃES
CREATED;VALUE=DATE-TIME:20241021T161848Z
LAST-MODIFIED;VALUE=DATE-TIME:20241021T161901Z
LOCATION:PLENÁRIO TRAJANO GUIMARÃES
URL:https://www.goiania.go.leg.br/sala-de-imprensa/eventos/mocao-de-aplaus
 os-a-empresa-granja-loyola-fundador-e-socio-administrador-senhor-altino-lo
 yola
END:VEVENT
BEGIN:VTIMEZONE
TZID:Brazil/East
X-LIC-LOCATION:Brazil/East
BEGIN:DAYLIGHT
DTSTART;VALUE=DATE-TIME:20241020T010000
TZNAME:BRST
TZOFFSETFROM:-0300
TZOFFSETTO:-0200
END:DAYLIGHT
END:VTIMEZONE
END:VCALENDAR
