BEGIN:VCALENDAR
VERSION:2.0
PRODID:-//Plone.org//NONSGML plone.app.event//EN
X-WR-TIMEZONE:Brazil/East
BEGIN:VEVENT
SUMMARY:MOÇÃO DE APALUSOS AOS SENHORES : SARGENTO IURE OLIVEIRA AIRES DA
  SILVA E AO SOLDADO KAMIMINSKI ADAMS CAETANO AGUIAR.
DTSTART;TZID=Brazil/East;VALUE=DATE-TIME:20241031T100000
DTEND;TZID=Brazil/East;VALUE=DATE-TIME:20241031T120000
DTSTAMP;VALUE=DATE-TIME:20260421T214726Z
UID:98c1e9adbca54b58a506561780f2aa67@www.goiania.go.leg.br
CONTACT:VEREADOR LUCAS KITÃO
CREATED;VALUE=DATE-TIME:20241021T162201Z
LAST-MODIFIED;VALUE=DATE-TIME:20241021T162219Z
LOCATION:PLENÁRIO TRAJANO GUIMARÃES
URL:https://www.goiania.go.leg.br/sala-de-imprensa/eventos/mocao-de-apalus
 os-aos-senhores-sargento-iure-oliveira-aires-da-silva-e-ao-soldado-kamimin
 ski-adams-caetano-aguiar
END:VEVENT
BEGIN:VTIMEZONE
TZID:Brazil/East
X-LIC-LOCATION:Brazil/East
BEGIN:DAYLIGHT
DTSTART;VALUE=DATE-TIME:20241020T010000
TZNAME:BRST
TZOFFSETFROM:-0300
TZOFFSETTO:-0200
END:DAYLIGHT
END:VTIMEZONE
END:VCALENDAR
