BEGIN:VCALENDAR
VERSION:2.0
PRODID:-//Plone.org//NONSGML plone.app.event//EN
X-WR-TIMEZONE:Brazil/East
BEGIN:VEVENT
SUMMARY:MISSA MENSAL.
DTSTART;TZID=Brazil/East;VALUE=DATE-TIME:20190429T080000
DTEND;TZID=Brazil/East;VALUE=DATE-TIME:20190429T100000
DTSTAMP;VALUE=DATE-TIME:20260422T182931Z
UID:df180e7e7923451a8534eaf48671e0ee@www.goiania.go.leg.br
CONTACT:VEREADOR KLEYBE MORAIS
CREATED;VALUE=DATE-TIME:20190327T135148Z
LAST-MODIFIED;VALUE=DATE-TIME:20190327T135209Z
LOCATION:AUDITÓRIO CARLOS EURICO
URL:https://www.goiania.go.leg.br/sala-de-imprensa/eventos/missa-mensal-5
END:VEVENT
BEGIN:VTIMEZONE
TZID:Brazil/East
X-LIC-LOCATION:Brazil/East
BEGIN:STANDARD
DTSTART;VALUE=DATE-TIME:20190216T230000
TZNAME:BRT
TZOFFSETFROM:-0200
TZOFFSETTO:-0300
END:STANDARD
END:VTIMEZONE
END:VCALENDAR
