BEGIN:VCALENDAR
VERSION:2.0
PRODID:-//Plone.org//NONSGML plone.app.event//EN
X-WR-TIMEZONE:Brazil/East
BEGIN:VEVENT
SUMMARY:MINICURSOS E SEMINÁRIOS "PODER LEGISLATIVO MUNICIPAL REGIME JURÍ
 DICO DOS VEREADORES".
DTSTART;TZID=Brazil/East;VALUE=DATE-TIME:20160805T083000
DTEND;TZID=Brazil/East;VALUE=DATE-TIME:20160805T123000
DTSTAMP;VALUE=DATE-TIME:20260422T165924Z
UID:1a54bffbc4194bffa2e7827a722f2c34@www.goiania.go.leg.br
CONTACT:ADERILTON BEZERRA DOS SANTOS
CREATED;VALUE=DATE-TIME:20171208T111312Z
LAST-MODIFIED;VALUE=DATE-TIME:20171208T112922Z
LOCATION:AUDITÓRIO CARLOS EURICO
URL:https://www.goiania.go.leg.br/sala-de-imprensa/eventos/minicursos-e-se
 minarios-poder-legislativo-municipal-regime-juridico-dos-vereadores
END:VEVENT
BEGIN:VTIMEZONE
TZID:Brazil/East
X-LIC-LOCATION:Brazil/East
BEGIN:STANDARD
DTSTART;VALUE=DATE-TIME:20160220T230000
TZNAME:BRT
TZOFFSETFROM:-0200
TZOFFSETTO:-0300
END:STANDARD
END:VTIMEZONE
END:VCALENDAR
