BEGIN:VCALENDAR
VERSION:2.0
PRODID:-//Plone.org//NONSGML plone.app.event//EN
X-WR-TIMEZONE:Brazil/East
BEGIN:VEVENT
SUMMARY:MESA REDONDA COM O TEMA "INTELIGÊNCIA ARTIFICIAL APLICADA À GEST
 ÃO PÚBLICA".
DTSTART;TZID=Brazil/East;VALUE=DATE-TIME:20260513T130000
DTEND;TZID=Brazil/East;VALUE=DATE-TIME:20260513T170000
DTSTAMP;VALUE=DATE-TIME:20260421T054045Z
UID:faed0c9407bd4a9c8b4d7bfe907ecd67@www.goiania.go.leg.br
CONTACT:COORDENAÇÃO DA ESCOLA LEGISLATIVA
CREATED;VALUE=DATE-TIME:20260408T210245Z
LAST-MODIFIED;VALUE=DATE-TIME:20260408T210255Z
LOCATION:AUDITÓRIO CARLOS EURICO
URL:https://www.goiania.go.leg.br/sala-de-imprensa/eventos/mesa-redonda-co
 m-o-tema-inteligencia-artificial-aplicada-a-gestao-publica
END:VEVENT
BEGIN:VTIMEZONE
TZID:Brazil/East
X-LIC-LOCATION:Brazil/East
BEGIN:STANDARD
DTSTART;VALUE=DATE-TIME:20260221T230000
TZNAME:BRT
TZOFFSETFROM:-0200
TZOFFSETTO:-0300
END:STANDARD
END:VTIMEZONE
END:VCALENDAR
