BEGIN:VCALENDAR
VERSION:2.0
PRODID:-//Plone.org//NONSGML plone.app.event//EN
X-WR-TIMEZONE:Brazil/East
BEGIN:VEVENT
SUMMARY:LANÇAMENTO DO WORKSHOP COMPRE DE UMA MULHER.
DTSTART;TZID=Brazil/East;VALUE=DATE-TIME:20220526T130000
DTEND;TZID=Brazil/East;VALUE=DATE-TIME:20220526T170000
DTSTAMP;VALUE=DATE-TIME:20260422T152901Z
UID:175e4692bc6e418ca792e6e7d41a2ea1@www.goiania.go.leg.br
CONTACT:VEREADORA AAVA SANTIAGO
CREATED;VALUE=DATE-TIME:20220511T113714Z
LAST-MODIFIED;VALUE=DATE-TIME:20220511T144317Z
LOCATION:AUDITÓRIO CARLOS EURICO
URL:https://www.goiania.go.leg.br/sala-de-imprensa/eventos/lancamento-do-w
 orkshop-compre-de-uma-mulher
END:VEVENT
BEGIN:VTIMEZONE
TZID:Brazil/East
X-LIC-LOCATION:Brazil/East
BEGIN:STANDARD
DTSTART;VALUE=DATE-TIME:20220219T230000
TZNAME:BRT
TZOFFSETFROM:-0200
TZOFFSETTO:-0300
END:STANDARD
END:VTIMEZONE
END:VCALENDAR
