BEGIN:VCALENDAR
VERSION:2.0
PRODID:-//Plone.org//NONSGML plone.app.event//EN
X-WR-TIMEZONE:Brazil/East
BEGIN:VEVENT
SUMMARY:LANÇAMENTO DO LIVRO "SHIHAN - A ROSA E O DRAGÃO DO KARATÊ".
DTSTART;TZID=Brazil/East;VALUE=DATE-TIME:20230615T180000
DTEND;TZID=Brazil/East;VALUE=DATE-TIME:20230615T210000
DTSTAMP;VALUE=DATE-TIME:20260422T065725Z
UID:3f159bffaa304fbf8dc88e7ff8930e89@www.goiania.go.leg.br
CONTACT:VEREADOR THIALU GUIOTTI
CREATED;VALUE=DATE-TIME:20230502T210951Z
LAST-MODIFIED;VALUE=DATE-TIME:20230502T211002Z
LOCATION:AUDITÓRIO CARLOS EURICO
URL:https://www.goiania.go.leg.br/sala-de-imprensa/eventos/lancamento-do-l
 ivro-shihan-a-rosa-e-o-dragao-do-karate
END:VEVENT
BEGIN:VTIMEZONE
TZID:Brazil/East
X-LIC-LOCATION:Brazil/East
BEGIN:STANDARD
DTSTART;VALUE=DATE-TIME:20230225T230000
TZNAME:BRT
TZOFFSETFROM:-0200
TZOFFSETTO:-0300
END:STANDARD
END:VTIMEZONE
END:VCALENDAR
