BEGIN:VCALENDAR
VERSION:2.0
PRODID:-//Plone.org//NONSGML plone.app.event//EN
X-WR-TIMEZONE:Brazil/East
BEGIN:VEVENT
SUMMARY:LANÇAMENTO DO LIVRO: FATOS\, RETRATOS E MEMÓRIAS\, DO AUTOR FRAN
 CISCO DONIZETE DE OLIVEIRA.
DTSTART;TZID=Brazil/East;VALUE=DATE-TIME:20191030T190000
DTEND;TZID=Brazil/East;VALUE=DATE-TIME:20191030T220000
DTSTAMP;VALUE=DATE-TIME:20260422T003054Z
UID:67335b7dafed4eaeace302673c6febb3@www.goiania.go.leg.br
CONTACT:VEREADOR EMILSON PEREIRA
CREATED;VALUE=DATE-TIME:20190923T173400Z
LAST-MODIFIED;VALUE=DATE-TIME:20190923T173431Z
LOCATION:AUDITÓRIO JAIME CÂMARA
URL:https://www.goiania.go.leg.br/sala-de-imprensa/eventos/lancamento-do-l
 ivro-fatos-retratos-e-memorias-do-autor-francisco-donizete-de-oliveira
END:VEVENT
BEGIN:VTIMEZONE
TZID:Brazil/East
X-LIC-LOCATION:Brazil/East
BEGIN:DAYLIGHT
DTSTART;VALUE=DATE-TIME:20191020T010000
TZNAME:BRST
TZOFFSETFROM:-0300
TZOFFSETTO:-0200
END:DAYLIGHT
END:VTIMEZONE
END:VCALENDAR
