BEGIN:VCALENDAR
VERSION:2.0
PRODID:-//Plone.org//NONSGML plone.app.event//EN
X-WR-TIMEZONE:Brazil/East
BEGIN:VEVENT
SUMMARY:LANÇAMENTO DO LIVRO "COMO SOU INÚTIL: COMO ENFRENTAR A DEPRESSÃ
 O PERSISTENTE E OUTROS TRANSTORNOS QUE AFETAM A APRENDIZAGEM".
DTSTART;TZID=Brazil/East;VALUE=DATE-TIME:20220428T080000
DTEND;TZID=Brazil/East;VALUE=DATE-TIME:20220428T180000
DTSTAMP;VALUE=DATE-TIME:20260421T001645Z
UID:5311647da4c245dc854dc2729c55ef56@www.goiania.go.leg.br
CONTACT:VEREADOR ANSELMO PEREIRA
CREATED;VALUE=DATE-TIME:20220318T104700Z
LAST-MODIFIED;VALUE=DATE-TIME:20220318T104753Z
LOCATION:HALL DE ENTRADA DESTA CASA DE LEIS
URL:https://www.goiania.go.leg.br/sala-de-imprensa/eventos/lancamento-do-l
 ivro-como-sou-inutil-como-enfrentar-a-depressao-persistente-e-outros-trans
 tornos-que-afetam-a-aprendizagem
END:VEVENT
BEGIN:VTIMEZONE
TZID:Brazil/East
X-LIC-LOCATION:Brazil/East
BEGIN:STANDARD
DTSTART;VALUE=DATE-TIME:20220219T230000
TZNAME:BRT
TZOFFSETFROM:-0200
TZOFFSETTO:-0300
END:STANDARD
END:VTIMEZONE
END:VCALENDAR
