BEGIN:VCALENDAR
VERSION:2.0
PRODID:-//Plone.org//NONSGML plone.app.event//EN
X-WR-TIMEZONE:Brazil/East
BEGIN:VEVENT
SUMMARY:LANÇAMENTO DO LIVRO "AS AVENTURAS DE BILLY"\,
DTSTART;TZID=Brazil/East;VALUE=DATE-TIME:20240306T190000
DTEND;TZID=Brazil/East;VALUE=DATE-TIME:20240306T220000
DTSTAMP;VALUE=DATE-TIME:20260421T072853Z
UID:7b8c350c2811465b9d93ca1cf173d4df@www.goiania.go.leg.br
CONTACT:VEREADOR DENÍCIO TRINDADE
CREATED;VALUE=DATE-TIME:20240221T150230Z
LAST-MODIFIED;VALUE=DATE-TIME:20240221T150300Z
LOCATION:AUDITÓRIO CARLOS EURICO
URL:https://www.goiania.go.leg.br/sala-de-imprensa/eventos/lancamento-do-l
 ivro-as-aventuras-de-billy
END:VEVENT
BEGIN:VTIMEZONE
TZID:Brazil/East
X-LIC-LOCATION:Brazil/East
BEGIN:STANDARD
DTSTART;VALUE=DATE-TIME:20240217T230000
TZNAME:BRT
TZOFFSETFROM:-0200
TZOFFSETTO:-0300
END:STANDARD
END:VTIMEZONE
END:VCALENDAR
