BEGIN:VCALENDAR
VERSION:2.0
PRODID:-//Plone.org//NONSGML plone.app.event//EN
X-WR-TIMEZONE:Brazil/East
BEGIN:VEVENT
SUMMARY:LANÇAMENTO DO CURSO MULHERES NA POLÍTICA.
DTSTART;TZID=Brazil/East;VALUE=DATE-TIME:20260408T170000
DTEND;TZID=Brazil/East;VALUE=DATE-TIME:20260408T210000
DTSTAMP;VALUE=DATE-TIME:20260421T192258Z
UID:6d2b5e1842f44ec99424fc7146a94a80@www.goiania.go.leg.br
CONTACT:VEREADORA KATIA
CREATED;VALUE=DATE-TIME:20260323T121042Z
LAST-MODIFIED;VALUE=DATE-TIME:20260323T121136Z
LOCATION:AUDITÓRIO CARLOS EURICO
URL:https://www.goiania.go.leg.br/sala-de-imprensa/eventos/lancamento-do-c
 urso-mulheres-na-politica
END:VEVENT
BEGIN:VTIMEZONE
TZID:Brazil/East
X-LIC-LOCATION:Brazil/East
BEGIN:STANDARD
DTSTART;VALUE=DATE-TIME:20260221T230000
TZNAME:BRT
TZOFFSETFROM:-0200
TZOFFSETTO:-0300
END:STANDARD
END:VTIMEZONE
END:VCALENDAR
