BEGIN:VCALENDAR
VERSION:2.0
PRODID:-//Plone.org//NONSGML plone.app.event//EN
X-WR-TIMEZONE:Brazil/East
BEGIN:VEVENT
SUMMARY:LANÇAMENTO DE UM LIVRO.
DTSTART;TZID=Brazil/East;VALUE=DATE-TIME:20231107T093000
DTEND;TZID=Brazil/East;VALUE=DATE-TIME:20231107T143000
DTSTAMP;VALUE=DATE-TIME:20260420T224947Z
UID:29adc60656f14b298cf23c53caeeaa52@www.goiania.go.leg.br
CONTACT:VEREADORA AAVA SANTIAGO
CREATED;VALUE=DATE-TIME:20231026T151839Z
LAST-MODIFIED;VALUE=DATE-TIME:20231026T151852Z
LOCATION:AUDITÓRIO CARLOS EURICO
URL:https://www.goiania.go.leg.br/sala-de-imprensa/eventos/lancamento-de-u
 m-livro
END:VEVENT
BEGIN:VTIMEZONE
TZID:Brazil/East
X-LIC-LOCATION:Brazil/East
BEGIN:DAYLIGHT
DTSTART;VALUE=DATE-TIME:20231015T010000
TZNAME:BRST
TZOFFSETFROM:-0300
TZOFFSETTO:-0200
END:DAYLIGHT
END:VTIMEZONE
END:VCALENDAR
