BEGIN:VCALENDAR
VERSION:2.0
PRODID:-//Plone.org//NONSGML plone.app.event//EN
X-WR-TIMEZONE:Brazil/East
BEGIN:VEVENT
SUMMARY:JORNADA DE FORMAÇÃO.
DTSTART;TZID=Brazil/East;VALUE=DATE-TIME:20191113T193000
DTEND;TZID=Brazil/East;VALUE=DATE-TIME:20191113T220000
DTSTAMP;VALUE=DATE-TIME:20260421T183328Z
UID:49cdf6f45b0148cb9ec0defae232d963@www.goiania.go.leg.br
CONTACT:VEREADOR LUCAS KITÃO
CREATED;VALUE=DATE-TIME:20191022T120120Z
LAST-MODIFIED;VALUE=DATE-TIME:20191022T120206Z
LOCATION:AUDITÓRIO CARLOS EURICO
URL:https://www.goiania.go.leg.br/sala-de-imprensa/eventos/jornada-de-form
 acao-1
END:VEVENT
BEGIN:VTIMEZONE
TZID:Brazil/East
X-LIC-LOCATION:Brazil/East
BEGIN:DAYLIGHT
DTSTART;VALUE=DATE-TIME:20191020T010000
TZNAME:BRST
TZOFFSETFROM:-0300
TZOFFSETTO:-0200
END:DAYLIGHT
END:VTIMEZONE
END:VCALENDAR
