BEGIN:VCALENDAR
VERSION:2.0
PRODID:-//Plone.org//NONSGML plone.app.event//EN
X-WR-TIMEZONE:Brazil/East
BEGIN:VEVENT
SUMMARY:IV SEMINÁRIO DE CAPACITAÇÃO DE TRABALHO SOCIAL NA POLÍTICA DE 
 HABITAÇÃO DO ESTADO DE GOIÁS.
DTSTART;TZID=Brazil/East;VALUE=DATE-TIME:20191016T070000
DTEND;TZID=Brazil/East;VALUE=DATE-TIME:20191016T183000
DTSTAMP;VALUE=DATE-TIME:20260424T052951Z
UID:1dc830fd12534a1695aa077cbb0170f9@www.goiania.go.leg.br
CONTACT:VEREADORA LÉIA KLEBIA
CREATED;VALUE=DATE-TIME:20190904T135428Z
LAST-MODIFIED;VALUE=DATE-TIME:20190904T135443Z
LOCATION:AUDITÓRIO JAIME CÂMARA
URL:https://www.goiania.go.leg.br/sala-de-imprensa/eventos/iv-seminario-de
 -capacitacao-de-trabalho-social-na-politica-de-habitacao-do-estado-de-goia
 s
END:VEVENT
BEGIN:VTIMEZONE
TZID:Brazil/East
X-LIC-LOCATION:Brazil/East
BEGIN:STANDARD
DTSTART;VALUE=DATE-TIME:20190216T230000
TZNAME:BRT
TZOFFSETFROM:-0200
TZOFFSETTO:-0300
END:STANDARD
END:VTIMEZONE
END:VCALENDAR
