BEGIN:VCALENDAR
VERSION:2.0
PRODID:-//Plone.org//NONSGML plone.app.event//EN
X-WR-TIMEZONE:Brazil/East
BEGIN:VEVENT
SUMMARY:INAUGURAÇÃO DO COMITÊ NACIONAL DE LUTA CONTRA O NEOLIBERALISMO.
DTSTART;TZID=Brazil/East;VALUE=DATE-TIME:20180511T190000
DTEND;TZID=Brazil/East;VALUE=DATE-TIME:20180511T220000
DTSTAMP;VALUE=DATE-TIME:20260424T070038Z
UID:f30507436d694b67801b81e2de9c21da@www.goiania.go.leg.br
CONTACT:VEREADOR ELIAS VAZ
CREATED;VALUE=DATE-TIME:20180424T132300Z
LAST-MODIFIED;VALUE=DATE-TIME:20180504T135944Z
LOCATION:SALA DE REUNIÃO DAS COMISSÕES
URL:https://www.goiania.go.leg.br/sala-de-imprensa/eventos/inauguracao-do-
 comite-nacional-de-luta-contra-o-neoliberalismo
END:VEVENT
BEGIN:VTIMEZONE
TZID:Brazil/East
X-LIC-LOCATION:Brazil/East
BEGIN:STANDARD
DTSTART;VALUE=DATE-TIME:20180217T230000
TZNAME:BRT
TZOFFSETFROM:-0200
TZOFFSETTO:-0300
END:STANDARD
END:VTIMEZONE
END:VCALENDAR
