BEGIN:VCALENDAR
VERSION:2.0
PRODID:-//Plone.org//NONSGML plone.app.event//EN
X-WR-TIMEZONE:Brazil/East
BEGIN:VEVENT
SUMMARY:IMPLANTAÇÃO DO PROJETO 1 POR 1 DA IGREJA "ADVENTISTA DO SÉTIMO 
 DIA - MOVIMENTO DA REFORMA".
DTSTART;TZID=Brazil/East;VALUE=DATE-TIME:20190608T080000
DTEND;TZID=Brazil/East;VALUE=DATE-TIME:20190608T180000
DTSTAMP;VALUE=DATE-TIME:20260424T070053Z
UID:4ee4fdc054814e498ca2a503a6ab6d3a@www.goiania.go.leg.br
CONTACT:VEREADOR CABO SENNA
CREATED;VALUE=DATE-TIME:20190510T105429Z
LAST-MODIFIED;VALUE=DATE-TIME:20190510T105452Z
LOCATION:AUDITÓRIO JAIME CÂMARA
URL:https://www.goiania.go.leg.br/sala-de-imprensa/eventos/implantacao-do-
 projeto-1-por-1-da-igreja-adventista-do-setimo-dia-movimento-da-reforma
END:VEVENT
BEGIN:VTIMEZONE
TZID:Brazil/East
X-LIC-LOCATION:Brazil/East
BEGIN:STANDARD
DTSTART;VALUE=DATE-TIME:20190216T230000
TZNAME:BRT
TZOFFSETFROM:-0200
TZOFFSETTO:-0300
END:STANDARD
END:VTIMEZONE
END:VCALENDAR
