BEGIN:VCALENDAR
VERSION:2.0
PRODID:-//Plone.org//NONSGML plone.app.event//EN
X-WR-TIMEZONE:Brazil/East
BEGIN:VEVENT
SUMMARY:III PRÊMIO GOIANO DE FISIOTERAPIA E PROJETO PREPARAÇÃO POÉTICA
  NAS ARTES DE CIÊNCIAS.
DTSTART;TZID=Brazil/East;VALUE=DATE-TIME:20180918T080000
DTEND;TZID=Brazil/East;VALUE=DATE-TIME:20180918T220000
DTSTAMP;VALUE=DATE-TIME:20260424T072056Z
UID:4119baa565814743aed09561899e6eeb@www.goiania.go.leg.br
CONTACT:VEREADORA DRA. CRISTINA LOPES AFONSO
CREATED;VALUE=DATE-TIME:20180504T141800Z
LAST-MODIFIED;VALUE=DATE-TIME:20180823T130713Z
LOCATION:AUDITÓRIO JAIME CÂMARA
URL:https://www.goiania.go.leg.br/sala-de-imprensa/eventos/iii-premio-goia
 no-de-fisioterapira-e-projeto-preparacao-poetica-nas-artes-de-ciencias
END:VEVENT
BEGIN:VTIMEZONE
TZID:Brazil/East
X-LIC-LOCATION:Brazil/East
BEGIN:STANDARD
DTSTART;VALUE=DATE-TIME:20180217T230000
TZNAME:BRT
TZOFFSETFROM:-0200
TZOFFSETTO:-0300
END:STANDARD
END:VTIMEZONE
END:VCALENDAR
