BEGIN:VCALENDAR
VERSION:2.0
PRODID:-//Plone.org//NONSGML plone.app.event//EN
X-WR-TIMEZONE:Brazil/East
BEGIN:VEVENT
SUMMARY:III JURÍ SIMULADO FACULDADE CGESP.
DTSTART;TZID=Brazil/East;VALUE=DATE-TIME:20251015T190000
DTEND;TZID=Brazil/East;VALUE=DATE-TIME:20251015T220000
DTSTAMP;VALUE=DATE-TIME:20260424T065341Z
UID:d74b7a75cc07489891a2330a7b645dc1@www.goiania.go.leg.br
CONTACT:VEREADOR BESSA
CREATED;VALUE=DATE-TIME:20250814T153554Z
LAST-MODIFIED;VALUE=DATE-TIME:20250923T114118Z
LOCATION:AUDITÓRIO CARLOS EURICO
URL:https://www.goiania.go.leg.br/sala-de-imprensa/eventos/iii-juri-simula
 do-faculdade-cgesp
END:VEVENT
BEGIN:VTIMEZONE
TZID:Brazil/East
X-LIC-LOCATION:Brazil/East
BEGIN:STANDARD
DTSTART;VALUE=DATE-TIME:20250215T230000
TZNAME:BRT
TZOFFSETFROM:-0200
TZOFFSETTO:-0300
END:STANDARD
END:VTIMEZONE
END:VCALENDAR
