BEGIN:VCALENDAR
VERSION:2.0
PRODID:-//Plone.org//NONSGML plone.app.event//EN
X-WR-TIMEZONE:Brazil/East
BEGIN:VEVENT
SUMMARY:III FEIRÃO DE ESTÁGIOS.
DTSTART;TZID=Brazil/East;VALUE=DATE-TIME:20191018T080000
DTEND;TZID=Brazil/East;VALUE=DATE-TIME:20191018T170000
DTSTAMP;VALUE=DATE-TIME:20260422T050225Z
UID:0d4e3c41fb4c47ec9842a576663d4041@www.goiania.go.leg.br
CONTACT:VEREADOR WELINGTON PEIXOTO
CREATED;VALUE=DATE-TIME:20190904T224727Z
LAST-MODIFIED;VALUE=DATE-TIME:20190919T154144Z
LOCATION:AUDITÓRIO CARLOS EURICO
URL:https://www.goiania.go.leg.br/sala-de-imprensa/eventos/iii-feirao-de-e
 stagios
END:VEVENT
BEGIN:VTIMEZONE
TZID:Brazil/East
X-LIC-LOCATION:Brazil/East
BEGIN:STANDARD
DTSTART;VALUE=DATE-TIME:20190216T230000
TZNAME:BRT
TZOFFSETFROM:-0200
TZOFFSETTO:-0300
END:STANDARD
END:VTIMEZONE
END:VCALENDAR
