BEGIN:VCALENDAR
VERSION:2.0
PRODID:-//Plone.org//NONSGML plone.app.event//EN
X-WR-TIMEZONE:Brazil/East
BEGIN:VEVENT
SUMMARY:HOMENAGEM AOS PROFISSIONAIS DA MEDICINA VETERINÁRIA EM DESTAQUE.
DTSTART;TZID=Brazil/East;VALUE=DATE-TIME:20250407T090000
DTEND;TZID=Brazil/East;VALUE=DATE-TIME:20250407T120000
DTSTAMP;VALUE=DATE-TIME:20260422T165951Z
UID:002b1583cfb247b0a88493568d9f3f65@www.goiania.go.leg.br
CONTACT:VEREADOR SARGENTO NOVANDIR
CREATED;VALUE=DATE-TIME:20250324T105355Z
LAST-MODIFIED;VALUE=DATE-TIME:20250324T105530Z
LOCATION:PLENÁRIO TRAJANO GUIMARÃES
URL:https://www.goiania.go.leg.br/sala-de-imprensa/eventos/homenagem-aos-p
 rofissionais-da-medicina-veterinaira-em-destaque
END:VEVENT
BEGIN:VTIMEZONE
TZID:Brazil/East
X-LIC-LOCATION:Brazil/East
BEGIN:STANDARD
DTSTART;VALUE=DATE-TIME:20250215T230000
TZNAME:BRT
TZOFFSETFROM:-0200
TZOFFSETTO:-0300
END:STANDARD
END:VTIMEZONE
END:VCALENDAR
