BEGIN:VCALENDAR
VERSION:2.0
PRODID:-//Plone.org//NONSGML plone.app.event//EN
X-WR-TIMEZONE:Brazil/East
BEGIN:VEVENT
SUMMARY:HOMENAGEM AOS 91 ANOS DE GOIÂNIA E AO DIA DO SERVIDOR.
DTSTART;TZID=Brazil/East;VALUE=DATE-TIME:20241031T080000
DTEND;TZID=Brazil/East;VALUE=DATE-TIME:20241031T180000
DTSTAMP;VALUE=DATE-TIME:20260422T111147Z
UID:39694c05007e4d25bb3b217666edddaf@www.goiania.go.leg.br
CONTACT:COORDENAÇÃO DA ESCOLA LEGISLATIVA
CREATED;VALUE=DATE-TIME:20241028T115903Z
LAST-MODIFIED;VALUE=DATE-TIME:20241028T115911Z
LOCATION:HALL DE ENTRADA DESTA CASA DE LEIS
URL:https://www.goiania.go.leg.br/sala-de-imprensa/eventos/homenagem-aos-9
 1-anos-de-goiania-e-ao-dia-do-servidor-1
END:VEVENT
BEGIN:VTIMEZONE
TZID:Brazil/East
X-LIC-LOCATION:Brazil/East
BEGIN:DAYLIGHT
DTSTART;VALUE=DATE-TIME:20241020T010000
TZNAME:BRST
TZOFFSETFROM:-0300
TZOFFSETTO:-0200
END:DAYLIGHT
END:VTIMEZONE
END:VCALENDAR
