BEGIN:VCALENDAR
VERSION:2.0
PRODID:-//Plone.org//NONSGML plone.app.event//EN
X-WR-TIMEZONE:Brazil/East
BEGIN:VEVENT
SUMMARY:HOMENAGEM AO DIAS DAS MÃES PROMOVIDO PELOS MEMBROS DA IGREJA ADVE
 NTISTA DO 7º DIA.
DTSTART;TZID=Brazil/East;VALUE=DATE-TIME:20260517T080000
DTEND;TZID=Brazil/East;VALUE=DATE-TIME:20260517T190000
DTSTAMP;VALUE=DATE-TIME:20260422T035257Z
UID:05b4d253e22e4ad7a0bd425d9597b1f5@www.goiania.go.leg.br
CONTACT:VEREADOR CABO SENNA
CREATED;VALUE=DATE-TIME:20260408T204119Z
LAST-MODIFIED;VALUE=DATE-TIME:20260408T204205Z
LOCATION:AUDITÓRIO JAIME CÂMARA
URL:https://www.goiania.go.leg.br/sala-de-imprensa/eventos/homenagem-ao-di
 as-das-maes-promovido-pelos-membros-da-igreja-adventista-do-7o-dia
END:VEVENT
BEGIN:VTIMEZONE
TZID:Brazil/East
X-LIC-LOCATION:Brazil/East
BEGIN:STANDARD
DTSTART;VALUE=DATE-TIME:20260221T230000
TZNAME:BRT
TZOFFSETFROM:-0200
TZOFFSETTO:-0300
END:STANDARD
END:VTIMEZONE
END:VCALENDAR
