BEGIN:VCALENDAR
VERSION:2.0
PRODID:-//Plone.org//NONSGML plone.app.event//EN
X-WR-TIMEZONE:Brazil/East
BEGIN:VEVENT
SUMMARY:HOMENAGEM À POLÍCIA MIITAR
DTSTART;TZID=Brazil/East;VALUE=DATE-TIME:20250325T100000
DTEND;TZID=Brazil/East;VALUE=DATE-TIME:20250325T110000
DTSTAMP;VALUE=DATE-TIME:20260420T024035Z
UID:28c1b0faccbb418d9ef3d99e9e16a320@www.goiania.go.leg.br
CREATED;VALUE=DATE-TIME:20250325T132432Z
LAST-MODIFIED;VALUE=DATE-TIME:20250325T132441Z
URL:https://www.goiania.go.leg.br/sala-de-imprensa/eventos/homenagem-a-pol
 icia-miitar-1
END:VEVENT
BEGIN:VTIMEZONE
TZID:Brazil/East
X-LIC-LOCATION:Brazil/East
BEGIN:STANDARD
DTSTART;VALUE=DATE-TIME:20250215T230000
TZNAME:BRT
TZOFFSETFROM:-0200
TZOFFSETTO:-0300
END:STANDARD
END:VTIMEZONE
END:VCALENDAR
