BEGIN:VCALENDAR
VERSION:2.0
PRODID:-//Plone.org//NONSGML plone.app.event//EN
X-WR-TIMEZONE:Brazil/East
BEGIN:VEVENT
SUMMARY:GOIÂNIA 86 ANOS - CELEBRANDO HISTÓRIAS.
DTSTART;TZID=Brazil/East;VALUE=DATE-TIME:20191023T083000
DTEND;TZID=Brazil/East;VALUE=DATE-TIME:20191023T120000
DTSTAMP;VALUE=DATE-TIME:20260422T003122Z
UID:e722c9e833764dc8bb987b985a0618a4@www.goiania.go.leg.br
CONTACT:VEREADOR ROMÁRIO POLICARPO
CREATED;VALUE=DATE-TIME:20190924T135838Z
LAST-MODIFIED;VALUE=DATE-TIME:20190924T135842Z
LOCATION:AUDITÓRIO JAIME CÂMARA
URL:https://www.goiania.go.leg.br/sala-de-imprensa/eventos/goiania-86-anos
 -celebrando-historias
END:VEVENT
BEGIN:VTIMEZONE
TZID:Brazil/East
X-LIC-LOCATION:Brazil/East
BEGIN:DAYLIGHT
DTSTART;VALUE=DATE-TIME:20191020T010000
TZNAME:BRST
TZOFFSETFROM:-0300
TZOFFSETTO:-0200
END:DAYLIGHT
END:VTIMEZONE
END:VCALENDAR
