BEGIN:VCALENDAR
VERSION:2.0
PRODID:-//Plone.org//NONSGML plone.app.event//EN
X-WR-TIMEZONE:Brazil/East
BEGIN:VEVENT
SUMMARY:FUTURO DA INDÚSTRIA - DESAFIOS DA POLÍTICA ATUAL.
DTSTART;TZID=Brazil/East;VALUE=DATE-TIME:20220912T080000
DTEND;TZID=Brazil/East;VALUE=DATE-TIME:20220912T170000
DTSTAMP;VALUE=DATE-TIME:20260419T145829Z
UID:86eb996e749d4fbbb2cef74d8af987a5@www.goiania.go.leg.br
CONTACT:VEREADOR WELTON LEMOS
CREATED;VALUE=DATE-TIME:20220824T200111Z
LAST-MODIFIED;VALUE=DATE-TIME:20220824T200123Z
LOCATION:AUDITÓRIO CARLOS EURICO
URL:https://www.goiania.go.leg.br/sala-de-imprensa/eventos/futuro-da-indus
 tria-desafios-da-politica-atual-1
END:VEVENT
BEGIN:VTIMEZONE
TZID:Brazil/East
X-LIC-LOCATION:Brazil/East
BEGIN:STANDARD
DTSTART;VALUE=DATE-TIME:20220219T230000
TZNAME:BRT
TZOFFSETFROM:-0200
TZOFFSETTO:-0300
END:STANDARD
END:VTIMEZONE
END:VCALENDAR
