BEGIN:VCALENDAR
VERSION:2.0
PRODID:-//Plone.org//NONSGML plone.app.event//EN
X-WR-TIMEZONE:Brazil/East
BEGIN:VEVENT
SUMMARY:FRENTE PARLAMENTAR VACINA PARA TODOS E COMBATE AO COVID-19 - DELIB
 ERAR SOBRE A CAMPANHA DA SOLIDARIEDADE.
DTSTART;TZID=Brazil/East;VALUE=DATE-TIME:20210406T143000
DTEND;TZID=Brazil/East;VALUE=DATE-TIME:20210406T163000
DTSTAMP;VALUE=DATE-TIME:20260420T093359Z
UID:5f4f9b465a2b471d943d4a94f81021d6@www.goiania.go.leg.br
CONTACT:VEREADOR MAURO RUBEM
CREATED;VALUE=DATE-TIME:20210405T125519Z
LAST-MODIFIED;VALUE=DATE-TIME:20210405T125534Z
LOCATION:SALA DE REUNIÃO DAS COMISSÕES
URL:https://www.goiania.go.leg.br/sala-de-imprensa/eventos/frente-parlamen
 tar-vacina-para-todos-e-combate-ao-covid-19-deliberar-sobre-a-campanha-da-
 solidariedade
END:VEVENT
BEGIN:VTIMEZONE
TZID:Brazil/East
X-LIC-LOCATION:Brazil/East
BEGIN:STANDARD
DTSTART;VALUE=DATE-TIME:20210220T230000
TZNAME:BRT
TZOFFSETFROM:-0200
TZOFFSETTO:-0300
END:STANDARD
END:VTIMEZONE
END:VCALENDAR
