BEGIN:VCALENDAR
VERSION:2.0
PRODID:-//Plone.org//NONSGML plone.app.event//EN
X-WR-TIMEZONE:Brazil/East
BEGIN:VEVENT
SUMMARY:FRENTE GOIANA DOS VEREADORES DE DIREITA - FEGOVEDI.
DTSTART;TZID=Brazil/East;VALUE=DATE-TIME:20250428T080000
DTEND;TZID=Brazil/East;VALUE=DATE-TIME:20250428T120000
DTSTAMP;VALUE=DATE-TIME:20260420T053657Z
UID:ac9dcfb9a9c24ba9a46db15b072ee48b@www.goiania.go.leg.br
CONTACT:VEREADOR VITOR HUGO
CREATED;VALUE=DATE-TIME:20250217T144152Z
LAST-MODIFIED;VALUE=DATE-TIME:20250217T144211Z
LOCATION:AUDITÓRIO JAIME CÂMARA
URL:https://www.goiania.go.leg.br/sala-de-imprensa/eventos/frente-goiana-d
 os-vereadores-de-direita-fegovedi
END:VEVENT
BEGIN:VTIMEZONE
TZID:Brazil/East
X-LIC-LOCATION:Brazil/East
BEGIN:STANDARD
DTSTART;VALUE=DATE-TIME:20250215T230000
TZNAME:BRT
TZOFFSETFROM:-0200
TZOFFSETTO:-0300
END:STANDARD
END:VTIMEZONE
END:VCALENDAR
