BEGIN:VCALENDAR
VERSION:2.0
PRODID:-//Plone.org//NONSGML plone.app.event//EN
X-WR-TIMEZONE:Brazil/East
BEGIN:VEVENT
SUMMARY:FRENTE GOIANA DOS VEREADORES DE DIREITA - FEGOVEDI.
DTSTART;TZID=Brazil/East;VALUE=DATE-TIME:20251211T140000
DTEND;TZID=Brazil/East;VALUE=DATE-TIME:20251211T170000
DTSTAMP;VALUE=DATE-TIME:20260420T190142Z
UID:b7d5ad9b922842bd911179c8c94db5f9@www.goiania.go.leg.br
CONTACT:VEREADOR MAJOR VITOR HUGO
CREATED;VALUE=DATE-TIME:20250826T125248Z
LAST-MODIFIED;VALUE=DATE-TIME:20250826T125343Z
LOCATION:AUDITÓRIO CARLOS EURICO
URL:https://www.goiania.go.leg.br/sala-de-imprensa/eventos/frente-goiana-d
 os-vereadores-de-direita-fegovedi-1
END:VEVENT
BEGIN:VTIMEZONE
TZID:Brazil/East
X-LIC-LOCATION:Brazil/East
BEGIN:DAYLIGHT
DTSTART;VALUE=DATE-TIME:20251019T010000
TZNAME:BRST
TZOFFSETFROM:-0300
TZOFFSETTO:-0200
END:DAYLIGHT
END:VTIMEZONE
END:VCALENDAR
