BEGIN:VCALENDAR
VERSION:2.0
PRODID:-//Plone.org//NONSGML plone.app.event//EN
X-WR-TIMEZONE:Brazil/East
BEGIN:VEVENT
SUMMARY:FÓRUM DE INCLUSÃO DA PESSOA COM DEFICIÊNCIA.
DTSTART;TZID=Brazil/East;VALUE=DATE-TIME:20181020T080000
DTEND;TZID=Brazil/East;VALUE=DATE-TIME:20181020T140000
DTSTAMP;VALUE=DATE-TIME:20260424T082251Z
UID:41d1d421341243499808a90c613e8abf@www.goiania.go.leg.br
CONTACT:VEREADORA DRA. CRISTINA LOPES AFONSO
CREATED;VALUE=DATE-TIME:20180830T135623Z
LAST-MODIFIED;VALUE=DATE-TIME:20180830T135645Z
LOCATION:AUDITÓRIO JAIME CÂMARA
URL:https://www.goiania.go.leg.br/sala-de-imprensa/eventos/forum-de-inclus
 ao-da-pessoa-com-deficiencia
END:VEVENT
BEGIN:VTIMEZONE
TZID:Brazil/East
X-LIC-LOCATION:Brazil/East
BEGIN:STANDARD
DTSTART;VALUE=DATE-TIME:20180217T230000
TZNAME:BRT
TZOFFSETFROM:-0200
TZOFFSETTO:-0300
END:STANDARD
END:VTIMEZONE
END:VCALENDAR
