BEGIN:VCALENDAR
VERSION:2.0
PRODID:-//Plone.org//NONSGML plone.app.event//EN
X-WR-TIMEZONE:Brazil/East
BEGIN:VEVENT
SUMMARY:FORMAÇÃO PARA PROMOÇÃO DA SAÚDE FÍSICA E MENTAL.
DTSTART;TZID=Brazil/East;VALUE=DATE-TIME:20240408T080000
DTEND;TZID=Brazil/East;VALUE=DATE-TIME:20240408T120000
DTSTAMP;VALUE=DATE-TIME:20260420T115603Z
UID:8c4e6677759f45b7944ca384785679c5@www.goiania.go.leg.br
CONTACT:MILKA REZENDE
CREATED;VALUE=DATE-TIME:20240229T104552Z
LAST-MODIFIED;VALUE=DATE-TIME:20240229T104950Z
LOCATION:AUDITÓRIO CARLOS EURICO
URL:https://www.goiania.go.leg.br/sala-de-imprensa/eventos/formacao-para-p
 romocao-da-saude-fisica-e-mental
END:VEVENT
BEGIN:VTIMEZONE
TZID:Brazil/East
X-LIC-LOCATION:Brazil/East
BEGIN:STANDARD
DTSTART;VALUE=DATE-TIME:20240217T230000
TZNAME:BRT
TZOFFSETFROM:-0200
TZOFFSETTO:-0300
END:STANDARD
END:VTIMEZONE
END:VCALENDAR
