BEGIN:VCALENDAR
VERSION:2.0
PRODID:-//Plone.org//NONSGML plone.app.event//EN
X-WR-TIMEZONE:Brazil/East
BEGIN:VEVENT
SUMMARY:FEIRINHA PROMOVIDA PELA ASSOCIAÇÃO DOS ARTESÕES DO ESTADO DE GO
 IÁS (ASAEGO).
DTSTART;TZID=Brazil/East;VALUE=DATE-TIME:20190307T080000
DTEND;TZID=Brazil/East;VALUE=DATE-TIME:20190307T180000
DTSTAMP;VALUE=DATE-TIME:20260424T082802Z
UID:fc8c8677cb814897a8f69327c750ec7d@www.goiania.go.leg.br
CONTACT:VEREADORA SABRINA GARCÊZ
CREATED;VALUE=DATE-TIME:20190219T131732Z
LAST-MODIFIED;VALUE=DATE-TIME:20190219T131744Z
LOCATION:HALL DE ENTRADA
URL:https://www.goiania.go.leg.br/sala-de-imprensa/eventos/feirinha-promov
 ida-pela-associacao-dos-artesoes-do-estado-de-goias-asaego
END:VEVENT
BEGIN:VTIMEZONE
TZID:Brazil/East
X-LIC-LOCATION:Brazil/East
BEGIN:STANDARD
DTSTART;VALUE=DATE-TIME:20190216T230000
TZNAME:BRT
TZOFFSETFROM:-0200
TZOFFSETTO:-0300
END:STANDARD
END:VTIMEZONE
END:VCALENDAR
