BEGIN:VCALENDAR
VERSION:2.0
PRODID:-//Plone.org//NONSGML plone.app.event//EN
X-WR-TIMEZONE:Brazil/East
BEGIN:VEVENT
SUMMARY:FEIRA VITRINE CRIATIVA
DTSTART;TZID=Brazil/East;VALUE=DATE-TIME:20251125T080000
DTEND;TZID=Brazil/East;VALUE=DATE-TIME:20251125T170000
DTSTAMP;VALUE=DATE-TIME:20260424T065800Z
UID:52fce44fc79e468da3f66fb8ecf548af@www.goiania.go.leg.br
CONTACT:VEREADORA KATIA
CREATED;VALUE=DATE-TIME:20251014T130916Z
LAST-MODIFIED;VALUE=DATE-TIME:20251014T130938Z
LOCATION:HALL DE ENTRADA DESTA CASA DE LEIS
URL:https://www.goiania.go.leg.br/sala-de-imprensa/eventos/feira-vitrine-c
 riativa
END:VEVENT
BEGIN:VTIMEZONE
TZID:Brazil/East
X-LIC-LOCATION:Brazil/East
BEGIN:DAYLIGHT
DTSTART;VALUE=DATE-TIME:20251019T010000
TZNAME:BRST
TZOFFSETFROM:-0300
TZOFFSETTO:-0200
END:DAYLIGHT
END:VTIMEZONE
END:VCALENDAR
