BEGIN:VCALENDAR
VERSION:2.0
PRODID:-//Plone.org//NONSGML plone.app.event//EN
X-WR-TIMEZONE:Brazil/East
BEGIN:VEVENT
SUMMARY:FEIRA DE ALIMENTOS E ROUPAS MÃES EMPREENDEDORAS.
DTSTART;TZID=Brazil/East;VALUE=DATE-TIME:20240220T080000
DTEND;TZID=Brazil/East;VALUE=DATE-TIME:20240221T180000
DTSTAMP;VALUE=DATE-TIME:20260422T082639Z
UID:1c7bd25735404852b62ac17684337e86@www.goiania.go.leg.br
CONTACT:VEREADOR IGOR FRANCO
CREATED;VALUE=DATE-TIME:20240205T133900Z
LAST-MODIFIED;VALUE=DATE-TIME:20240205T134003Z
LOCATION:HALL DE ENTRADA DESTA CASA DE LEIS
URL:https://www.goiania.go.leg.br/sala-de-imprensa/eventos/feira-de-alimen
 tos-e-roupas-maes-empreendedoras
END:VEVENT
BEGIN:VTIMEZONE
TZID:Brazil/East
X-LIC-LOCATION:Brazil/East
BEGIN:STANDARD
DTSTART;VALUE=DATE-TIME:20240217T230000
TZNAME:BRT
TZOFFSETFROM:-0200
TZOFFSETTO:-0300
END:STANDARD
END:VTIMEZONE
END:VCALENDAR
