BEGIN:VCALENDAR
VERSION:2.0
PRODID:-//Plone.org//NONSGML plone.app.event//EN
X-WR-TIMEZONE:Brazil/East
BEGIN:VEVENT
SUMMARY:FEIRA DE AFRO-EMPREEDENDORISMO.
DTSTART;TZID=Brazil/East;VALUE=DATE-TIME:20190322T080000
DTEND;TZID=Brazil/East;VALUE=DATE-TIME:20190322T180000
DTSTAMP;VALUE=DATE-TIME:20260424T204802Z
UID:13a6b891ad1a47f08101fe401957afb1@www.goiania.go.leg.br
CONTACT:PAULO CÉSAR FORNAZIER
CREATED;VALUE=DATE-TIME:20190308T131341Z
LAST-MODIFIED;VALUE=DATE-TIME:20190308T131346Z
LOCATION:HALL DE ENTRADA
URL:https://www.goiania.go.leg.br/sala-de-imprensa/eventos/feira-de-afro-e
 mpreedendorismo-2
END:VEVENT
BEGIN:VTIMEZONE
TZID:Brazil/East
X-LIC-LOCATION:Brazil/East
BEGIN:STANDARD
DTSTART;VALUE=DATE-TIME:20190216T230000
TZNAME:BRT
TZOFFSETFROM:-0200
TZOFFSETTO:-0300
END:STANDARD
END:VTIMEZONE
END:VCALENDAR
