BEGIN:VCALENDAR
VERSION:2.0
PRODID:-//Plone.org//NONSGML plone.app.event//EN
X-WR-TIMEZONE:Brazil/East
BEGIN:VEVENT
SUMMARY:FEIRA DE AFRO-EMPREEDENDORISMO.
DTSTART;TZID=Brazil/East;VALUE=DATE-TIME:20190321T080000
DTEND;TZID=Brazil/East;VALUE=DATE-TIME:20190321T180000
DTSTAMP;VALUE=DATE-TIME:20260424T094251Z
UID:c77b293cf88941af84aea4579240beae@www.goiania.go.leg.br
CONTACT:PAULO CÉSAR FORNAZIER
CREATED;VALUE=DATE-TIME:20190308T131246Z
LAST-MODIFIED;VALUE=DATE-TIME:20190308T131251Z
LOCATION:HALL DE ENTRADA
URL:https://www.goiania.go.leg.br/sala-de-imprensa/eventos/feira-de-afro-e
 mpreedendorismo-1
END:VEVENT
BEGIN:VTIMEZONE
TZID:Brazil/East
X-LIC-LOCATION:Brazil/East
BEGIN:STANDARD
DTSTART;VALUE=DATE-TIME:20190216T230000
TZNAME:BRT
TZOFFSETFROM:-0200
TZOFFSETTO:-0300
END:STANDARD
END:VTIMEZONE
END:VCALENDAR
