BEGIN:VCALENDAR
VERSION:2.0
PRODID:-//Plone.org//NONSGML plone.app.event//EN
X-WR-TIMEZONE:Brazil/East
BEGIN:VEVENT
SUMMARY:EXPOSIÇÃO SOBRE O ARTESANATO GOIANO 
DTSTART;TZID=Brazil/East;VALUE=DATE-TIME:20190325T080000
DTEND;TZID=Brazil/East;VALUE=DATE-TIME:20190329T220000
DTSTAMP;VALUE=DATE-TIME:20260422T081807Z
UID:3a90b0fdf1c242188909933c077d982d@www.goiania.go.leg.br
CONTACT:VEREADORA DRA. CRISTINA LOPES AFONSO
CREATED;VALUE=DATE-TIME:20190212T131035Z
LAST-MODIFIED;VALUE=DATE-TIME:20190212T131046Z
LOCATION:HALL DE ENTRADA 
URL:https://www.goiania.go.leg.br/sala-de-imprensa/eventos/exposicao-sobre
 -o-artesanato-goiano
END:VEVENT
BEGIN:VTIMEZONE
TZID:Brazil/East
X-LIC-LOCATION:Brazil/East
BEGIN:STANDARD
DTSTART;VALUE=DATE-TIME:20190216T230000
TZNAME:BRT
TZOFFSETFROM:-0200
TZOFFSETTO:-0300
END:STANDARD
END:VTIMEZONE
END:VCALENDAR
