BEGIN:VCALENDAR
VERSION:2.0
PRODID:-//Plone.org//NONSGML plone.app.event//EN
X-WR-TIMEZONE:Brazil/East
BEGIN:VEVENT
SUMMARY:EXPOSIÇÃO "REVELANDO GOIÂNIA A ATTILIO".
DTSTART;TZID=Brazil/East;VALUE=DATE-TIME:20190617T080000
DTEND;TZID=Brazil/East;VALUE=DATE-TIME:20190617T180000
DTSTAMP;VALUE=DATE-TIME:20260421T154451Z
UID:104f271577644e73b78a63e84635c81f@www.goiania.go.leg.br
CONTACT:VEREADORA DRA. CRISTINA LOPES AFONSO
CREATED;VALUE=DATE-TIME:20190613T215509Z
LAST-MODIFIED;VALUE=DATE-TIME:20190613T215517Z
LOCATION:HALL DE ENTRADA
URL:https://www.goiania.go.leg.br/sala-de-imprensa/eventos/exposicao-revel
 ando-goiania-a-attilio
END:VEVENT
BEGIN:VTIMEZONE
TZID:Brazil/East
X-LIC-LOCATION:Brazil/East
BEGIN:STANDARD
DTSTART;VALUE=DATE-TIME:20190216T230000
TZNAME:BRT
TZOFFSETFROM:-0200
TZOFFSETTO:-0300
END:STANDARD
END:VTIMEZONE
END:VCALENDAR
