BEGIN:VCALENDAR
VERSION:2.0
PRODID:-//Plone.org//NONSGML plone.app.event//EN
X-WR-TIMEZONE:Brazil/East
BEGIN:VEVENT
SUMMARY:EXPOSIÇÃO ORGULHO LGBT.
DTSTART;TZID=Brazil/East;VALUE=DATE-TIME:20260620T080000
DTEND;TZID=Brazil/East;VALUE=DATE-TIME:20260703T180000
DTSTAMP;VALUE=DATE-TIME:20260424T082211Z
UID:96584bf3b6a94be098463ee09d890614@www.goiania.go.leg.br
CONTACT:VEREADOR FABRÍCIO ROSA
CREATED;VALUE=DATE-TIME:20260223T131522Z
LAST-MODIFIED;VALUE=DATE-TIME:20260223T131529Z
LOCATION:HALL DE ENTRADA DESTA CASA DE LEIS
URL:https://www.goiania.go.leg.br/sala-de-imprensa/eventos/exposicao-orgul
 ho-lgbt
END:VEVENT
BEGIN:VTIMEZONE
TZID:Brazil/East
X-LIC-LOCATION:Brazil/East
BEGIN:STANDARD
DTSTART;VALUE=DATE-TIME:20260221T230000
TZNAME:BRT
TZOFFSETFROM:-0200
TZOFFSETTO:-0300
END:STANDARD
END:VTIMEZONE
END:VCALENDAR
