BEGIN:VCALENDAR
VERSION:2.0
PRODID:-//Plone.org//NONSGML plone.app.event//EN
X-WR-TIMEZONE:Brazil/East
BEGIN:VEVENT
SUMMARY:EXPOSIÇÃO "GOIÂNIA EM AQUARELA II".
DTSTART;TZID=Brazil/East;VALUE=DATE-TIME:20261019T100000
DTEND;TZID=Brazil/East;VALUE=DATE-TIME:20261031T180000
DTSTAMP;VALUE=DATE-TIME:20260421T000743Z
UID:36c929c418ea45c79d164765db6df727@www.goiania.go.leg.br
CONTACT:COORDENAÇÃO DA ESCOLA LEGISLATIVA
CREATED;VALUE=DATE-TIME:20260304T132012Z
LAST-MODIFIED;VALUE=DATE-TIME:20260304T132225Z
LOCATION:ESPAÇO CULTURAL CÉLIA CÂMARA
URL:https://www.goiania.go.leg.br/sala-de-imprensa/eventos/exposicao-goian
 ia-em-aquarela-ii
END:VEVENT
BEGIN:VTIMEZONE
TZID:Brazil/East
X-LIC-LOCATION:Brazil/East
BEGIN:DAYLIGHT
DTSTART;VALUE=DATE-TIME:20261018T010000
TZNAME:BRST
TZOFFSETFROM:-0300
TZOFFSETTO:-0200
END:DAYLIGHT
END:VTIMEZONE
END:VCALENDAR
