BEGIN:VCALENDAR
VERSION:2.0
PRODID:-//Plone.org//NONSGML plone.app.event//EN
X-WR-TIMEZONE:Brazil/East
BEGIN:VEVENT
SUMMARY:EXPOSIÇÃO "FOTOS DA 1ª EXPEDIÇÃO DO RIO MEIA PONTE".
DTSTART;TZID=Brazil/East;VALUE=DATE-TIME:20240321T080000
DTEND;TZID=Brazil/East;VALUE=DATE-TIME:20240327T180000
DTSTAMP;VALUE=DATE-TIME:20260421T155129Z
UID:541d0e3c8cb345e5bc34a20ebef74e88@www.goiania.go.leg.br
CONTACT:VEREADORA KATIA
CREATED;VALUE=DATE-TIME:20240318T141550Z
LAST-MODIFIED;VALUE=DATE-TIME:20240318T141605Z
LOCATION:HALL DE ENTRADA DESTA CASA DE LEIS
URL:https://www.goiania.go.leg.br/sala-de-imprensa/eventos/exposicao-fotos
 -da-1a-expedicao-do-rio-meia-ponte
END:VEVENT
BEGIN:VTIMEZONE
TZID:Brazil/East
X-LIC-LOCATION:Brazil/East
BEGIN:STANDARD
DTSTART;VALUE=DATE-TIME:20240217T230000
TZNAME:BRT
TZOFFSETFROM:-0200
TZOFFSETTO:-0300
END:STANDARD
END:VTIMEZONE
END:VCALENDAR
