BEGIN:VCALENDAR
VERSION:2.0
PRODID:-//Plone.org//NONSGML plone.app.event//EN
X-WR-TIMEZONE:Brazil/East
BEGIN:VEVENT
SUMMARY:EXPOSIÇÃO FOTOGRÁFICA "PLANTADORES DE ÁGUA".
DTSTART;TZID=Brazil/East;VALUE=DATE-TIME:20250602T080000
DTEND;TZID=Brazil/East;VALUE=DATE-TIME:20250613T180000
DTSTAMP;VALUE=DATE-TIME:20260420T115650Z
UID:f7e47b9ef5234635b67b406d9a83b1a7@www.goiania.go.leg.br
CONTACT:MILKA REZENDE
CREATED;VALUE=DATE-TIME:20250310T123134Z
LAST-MODIFIED;VALUE=DATE-TIME:20250310T123200Z
LOCATION:ESPAÇO CULTURAL CÉLIA CÂMARA
URL:https://www.goiania.go.leg.br/sala-de-imprensa/eventos/exposicao-fotog
 rafica-plantadores-de-agua
END:VEVENT
BEGIN:VTIMEZONE
TZID:Brazil/East
X-LIC-LOCATION:Brazil/East
BEGIN:STANDARD
DTSTART;VALUE=DATE-TIME:20250215T230000
TZNAME:BRT
TZOFFSETFROM:-0200
TZOFFSETTO:-0300
END:STANDARD
END:VTIMEZONE
END:VCALENDAR
