BEGIN:VCALENDAR
VERSION:2.0
PRODID:-//Plone.org//NONSGML plone.app.event//EN
X-WR-TIMEZONE:Brazil/East
BEGIN:VEVENT
SUMMARY:EXPOSIÇÃO FOTOGRÁFICA  OS 80 ANOS DO JORNAL O POPULAR.
DTSTART;TZID=Brazil/East;VALUE=DATE-TIME:20180404T080000
DTEND;TZID=Brazil/East;VALUE=DATE-TIME:20180404T180000
DTSTAMP;VALUE=DATE-TIME:20260422T052911Z
UID:49e223d6ff104445b43dc09f2b70a059@www.goiania.go.leg.br
CONTACT:AFONSO CELSO BORGES J. DE MATTOS
CREATED;VALUE=DATE-TIME:20180321T142826Z
LAST-MODIFIED;VALUE=DATE-TIME:20180321T142833Z
LOCATION:HALL DE ENTRADA
URL:https://www.goiania.go.leg.br/sala-de-imprensa/eventos/exposicao-fotog
 rafica-os-80-anos-do-jornal-o-popular-2
END:VEVENT
BEGIN:VTIMEZONE
TZID:Brazil/East
X-LIC-LOCATION:Brazil/East
BEGIN:STANDARD
DTSTART;VALUE=DATE-TIME:20180217T230000
TZNAME:BRT
TZOFFSETFROM:-0200
TZOFFSETTO:-0300
END:STANDARD
END:VTIMEZONE
END:VCALENDAR
